BEGIN:VCALENDAR
PRODID:-//eluceo/ical//2.0/EN
VERSION:2.0
CALSCALE:GREGORIAN
BEGIN:VEVENT
UID:event-166
DTSTAMP:20260423T134742Z
SUMMARY:(extern) Praktijkbegeleider Medische Techniek
DESCRIPTION:WOERDEN - Met deze tweedaagse cursus leer je hoe je nieuwe mede
 werkers snel en goed integreert in de organisatie. Je leert hoe je ze bege
 leidt tijdens de inwerkperiode en hoe je zorgt dat ze daarna bij jou blijv
 en werken! Als praktijkbegeleider ben je de sleutel tot het succes van de 
 nieuwe generatie werknemers en jouw inzet draagt direct bij aan de toekoms
 t van jouw team. Deze training wordt georganiseerd door INTOP Zorgsector. 
 Meer informatie en inschrijven
DTSTART:20260507T070000Z
DTEND:20260521T140000Z
LOCATION:INTOP\, Woerden
END:VEVENT
BEGIN:VTIMEZONE
TZID:UTC
BEGIN:STANDARD
DTSTART:20260507T070000
TZNAME:UTC
TZOFFSETTO:+0000
TZOFFSETFROM:+0000
END:STANDARD
END:VTIMEZONE
END:VCALENDAR
