BEGIN:VCALENDAR
PRODID:-//eluceo/ical//2.0/EN
VERSION:2.0
CALSCALE:GREGORIAN
BEGIN:VEVENT
UID:event-165
DTSTAMP:20260423T115505Z
SUMMARY:VZI Webinar Convenant naar Leidraad MT
DESCRIPTION:Introductie Medische technologie is onlosmakelijk verbonden met
  het (para)medisch handelen. In zorginstellingen worden dagelijks duizende
 n medische hulpmiddelen gebruikt – van diagnostische apparatuur tot beha
 ndeltechnologie – die gezamenlijk bijdragen aan preventie\, diagnostiek 
 en zorg voor patiënten. Om het veilige gebruik (introductie\, toepassing 
 en afvoer) van deze technologie te waarborgen\, hebben de zorgkoepels in d
 e medisch specialistische zorg\, te weten Federatie Medisch Specialisten\,
  UMCNL en de Nederlandse Vereniging van Ziekenhuizen (NVZ)\, samen met Rev
 alidatie Nederland en Zelfstandige Klinieken Nederland (ZKN) en andere vel
 dpartijen deze leidraad opgesteld. Hiermee vervangen zij vier eerdere docu
 menten die elk een deelaspect van medische technologie belichtten: Convena
 nt Veilige toepassing van medische technologie (2016)\; Leidraad Nieuwe in
 terventies in de klinische praktijk (2014)\; Leidraad Verantwoordelijkheid
  bij aanschaf en gebruik (2014)\; Leidraad Verantwoordelijkheid bij onderh
 oud en beheer (2008). De leidraad heeft als doel het bevorderen van verant
 woord gebruik van medische technologie binnen de medisch-specialistische z
 org. Daarbij gaat het om drie principes: veilige technologie\, een bekwame
  gebruiker en een veilige toepassing in de zorgomgeving.  Voor ziekenhuiz
 en die het Convenant MT hebben geïmplementeerd\, zijn veel elementen in d
 e Leidraad herkenbaar voor de medisch technicus. We gaan op 4 juni vooral 
 in op de verschillen en de extra elementen zoals ziekenhuis verplaatste zo
 rg. Programma 13.00: Opening 13.15: Start webinar 13.15-13.25: Het proces 
 van het Convenant MT (2009-2026) 13.25-13.35: De verschillen tussen Conven
 ant MT en Leidraad MT\; de rol van de IGJ 13.35-13.50: Kwaliteitskader en 
 Organisatie 13.50-14.05: Risicomanagement 14.05-14.20: Bevoegde en Bekwame
  medewerkers 14.20-14.35: Levensloop van Medische Technologie 14.35-14.45:
  Samenvatting en afronding Trainingsdoeleinden Het onderkennen van de vers
 chillen tussen Convenant MT en de nieuwe Leidraad MT Het begrijpen van de 
 impact van de Leidraad MT op het werk van de medisch technicus Doelgroep H
 oofden Medische Technologie/Techniek\, teamleiders MT en medisch technici 
 Inschrijfkosten Deelname aan deze webinar is kosteloos en alleen voor lede
 n
DTSTART:20260604T110000Z
DTEND:20260604T124500Z
LOCATION:Online webinar
END:VEVENT
BEGIN:VTIMEZONE
TZID:UTC
BEGIN:STANDARD
DTSTART:20260604T110000
TZNAME:UTC
TZOFFSETTO:+0000
TZOFFSETFROM:+0000
END:STANDARD
END:VTIMEZONE
END:VCALENDAR
